Package: RNASeqPower Version: 1.47.0 Command: /home/biocbuild/bbs-3.21-bioc/R/bin/R CMD INSTALL RNASeqPower StartedAt: 2025-02-20 15:00:55 -0500 (Thu, 20 Feb 2025) EndedAt: 2025-02-20 15:00:56 -0500 (Thu, 20 Feb 2025) EllapsedTime: 1.4 seconds RetCode: 0 Status: OK