Package: RNASeqPower Version: 1.47.0 Command: /Library/Frameworks/R.framework/Resources/bin/R CMD INSTALL RNASeqPower StartedAt: 2025-02-20 15:05:40 -0500 (Thu, 20 Feb 2025) EndedAt: 2025-02-20 15:06:13 -0500 (Thu, 20 Feb 2025) EllapsedTime: 32.8 seconds RetCode: 0 Status: OK