Package: RNASeqPower Version: 1.47.0 Command: /home/biocbuild/R/R/bin/R CMD INSTALL RNASeqPower StartedAt: 2025-01-29 19:33:25 -0000 (Wed, 29 Jan 2025) EndedAt: 2025-01-29 19:33:57 -0000 (Wed, 29 Jan 2025) EllapsedTime: 31.1 seconds RetCode: 0 Status: OK