Package: RNAAgeCalc Version: 1.19.0 Command: /Library/Frameworks/R.framework/Resources/bin/R CMD INSTALL RNAAgeCalc StartedAt: 2025-02-19 15:29:47 -0500 (Wed, 19 Feb 2025) EndedAt: 2025-02-19 15:30:54 -0500 (Wed, 19 Feb 2025) EllapsedTime: 67.6 seconds RetCode: 0 Status: OK