Package: RNAAgeCalc Version: 1.19.0 Command: /Library/Frameworks/R.framework/Resources/bin/R CMD check --install=check:RNAAgeCalc.install-out.txt --library=/Library/Frameworks/R.framework/Resources/library --no-vignettes --timings RNAAgeCalc_1.19.0.tar.gz StartedAt: 2025-02-19 22:49:16 -0500 (Wed, 19 Feb 2025) EndedAt: 2025-02-19 22:55:18 -0500 (Wed, 19 Feb 2025) EllapsedTime: 361.3 seconds RetCode: 0 Status: OK CheckDir: RNAAgeCalc.Rcheck Warnings: 0