Package: RNAAgeCalc Version: 1.19.0 Command: /Library/Frameworks/R.framework/Resources/bin/R CMD build --keep-empty-dirs --no-resave-data RNAAgeCalc StartedAt: 2025-02-19 17:26:35 -0500 (Wed, 19 Feb 2025) EndedAt: 2025-02-19 17:27:05 -0500 (Wed, 19 Feb 2025) EllapsedTime: 30.3 seconds RetCode: 0 Status: OK PackageFile: RNAAgeCalc_1.19.0.tar.gz PackageFileSize: 3.337 MiB