Package: RMassBank Version: 3.17.0 Command: chmod a+r RMassBank -R && E:\biocbuild\bbs-3.21-bioc\R\bin\R.exe CMD build --keep-empty-dirs --no-resave-data RMassBank StartedAt: 2025-02-18 21:09:22 -0500 (Tue, 18 Feb 2025) EndedAt: 2025-02-18 21:19:41 -0500 (Tue, 18 Feb 2025) EllapsedTime: 619.2 seconds RetCode: 0 Status: OK PackageFile: RMassBank_3.17.0.tar.gz PackageFileSize: 1.1 MiB