Package: RMassBank Version: 3.17.0 Command: rm -rf RMassBank.buildbin-libdir && mkdir RMassBank.buildbin-libdir && E:\biocbuild\bbs-3.21-bioc\R\bin\R.exe CMD INSTALL --build --library=RMassBank.buildbin-libdir RMassBank_3.17.0.tar.gz StartedAt: 2025-02-19 08:15:30 -0500 (Wed, 19 Feb 2025) EndedAt: 2025-02-19 08:17:56 -0500 (Wed, 19 Feb 2025) EllapsedTime: 145.7 seconds RetCode: 0 Status: OK PackageFile: RMassBank_3.17.0.zip PackageFileSize: 2.02 MiB