Package: RMassBank Version: 3.17.0 Command: /Library/Frameworks/R.framework/Resources/bin/R CMD INSTALL RMassBank StartedAt: 2025-02-18 15:39:17 -0500 (Tue, 18 Feb 2025) EndedAt: 2025-02-18 15:40:23 -0500 (Tue, 18 Feb 2025) EllapsedTime: 65.3 seconds RetCode: 0 Status: OK