Package: RMassBank Version: 3.17.0 Command: /Library/Frameworks/R.framework/Resources/bin/R CMD check --install=check:RMassBank.install-out.txt --library=/Library/Frameworks/R.framework/Resources/library --no-vignettes --timings RMassBank_3.17.0.tar.gz StartedAt: 2025-02-19 22:48:57 -0500 (Wed, 19 Feb 2025) EndedAt: 2025-02-19 22:55:22 -0500 (Wed, 19 Feb 2025) EllapsedTime: 385.6 seconds RetCode: 1 Status: ERROR CheckDir: RMassBank.Rcheck Warnings: NA