Package: RMassBank Version: 3.17.0 Command: /Library/Frameworks/R.framework/Resources/bin/R CMD build --keep-empty-dirs --no-resave-data RMassBank StartedAt: 2025-02-19 17:26:22 -0500 (Wed, 19 Feb 2025) EndedAt: 2025-02-19 17:31:48 -0500 (Wed, 19 Feb 2025) EllapsedTime: 325.8 seconds RetCode: 1 Status: ERROR PackageFile: None PackageFileSize: NA