Package: RLassoCox Version: 1.15.0 Command: E:\biocbuild\bbs-3.21-bioc\R\bin\R.exe CMD INSTALL RLassoCox StartedAt: 2025-02-19 16:29:59 -0500 (Wed, 19 Feb 2025) EndedAt: 2025-02-19 16:30:14 -0500 (Wed, 19 Feb 2025) EllapsedTime: 14.8 seconds RetCode: 0 Status: OK