Package: RLassoCox Version: 1.15.0 Command: E:\biocbuild\bbs-3.21-bioc\R\bin\R.exe CMD check --no-multiarch --install=check:RLassoCox.install-out.txt --library=E:\biocbuild\bbs-3.21-bioc\R\library --no-vignettes --timings RLassoCox_1.15.0.tar.gz StartedAt: 2025-02-21 05:02:35 -0500 (Fri, 21 Feb 2025) EndedAt: 2025-02-21 05:07:55 -0500 (Fri, 21 Feb 2025) EllapsedTime: 320.7 seconds RetCode: 0 Status: OK CheckDir: RLassoCox.Rcheck Warnings: 0