Package: RLassoCox Version: 1.15.0 Command: /Library/Frameworks/R.framework/Resources/bin/R CMD check --install=check:RLassoCox.install-out.txt --library=/Library/Frameworks/R.framework/Resources/library --no-vignettes --timings RLassoCox_1.15.0.tar.gz StartedAt: 2025-02-20 22:47:52 -0500 (Thu, 20 Feb 2025) EndedAt: 2025-02-20 22:51:49 -0500 (Thu, 20 Feb 2025) EllapsedTime: 236.6 seconds RetCode: 0 Status: OK CheckDir: RLassoCox.Rcheck Warnings: 0