Package: RLassoCox Version: 1.15.0 Command: /Library/Frameworks/R.framework/Resources/bin/R CMD build --keep-empty-dirs --no-resave-data RLassoCox StartedAt: 2025-02-19 17:26:08 -0500 (Wed, 19 Feb 2025) EndedAt: 2025-02-19 17:26:38 -0500 (Wed, 19 Feb 2025) EllapsedTime: 30.3 seconds RetCode: 0 Status: OK PackageFile: RLassoCox_1.15.0.tar.gz PackageFileSize: 1.967 MiB