Package: RLMM Version: 1.69.0 Command: E:\biocbuild\bbs-3.21-bioc\R\bin\R.exe CMD INSTALL RLMM StartedAt: 2025-02-20 15:17:43 -0500 (Thu, 20 Feb 2025) EndedAt: 2025-02-20 15:17:51 -0500 (Thu, 20 Feb 2025) EllapsedTime: 8.0 seconds RetCode: 0 Status: OK