Package: RLMM Version: 1.69.0 Command: rm -rf RLMM.buildbin-libdir && mkdir RLMM.buildbin-libdir && E:\biocbuild\bbs-3.21-bioc\R\bin\R.exe CMD INSTALL --build --library=RLMM.buildbin-libdir RLMM_1.69.0.tar.gz StartedAt: 2025-02-21 08:56:14 -0500 (Fri, 21 Feb 2025) EndedAt: 2025-02-21 08:56:19 -0500 (Fri, 21 Feb 2025) EllapsedTime: 4.9 seconds RetCode: 0 Status: OK PackageFile: RLMM_1.69.0.zip PackageFileSize: 186 KiB