Package: RLMM Version: 1.69.0 Command: /Library/Frameworks/R.framework/Resources/bin/R CMD INSTALL RLMM StartedAt: 2025-02-20 15:03:21 -0500 (Thu, 20 Feb 2025) EndedAt: 2025-02-20 15:03:50 -0500 (Thu, 20 Feb 2025) EllapsedTime: 29.1 seconds RetCode: 0 Status: OK