Package: RLMM Version: 1.69.0 Command: /Library/Frameworks/R.framework/Resources/bin/R CMD build --keep-empty-dirs --no-resave-data RLMM StartedAt: 2025-02-20 18:00:36 -0500 (Thu, 20 Feb 2025) EndedAt: 2025-02-20 18:00:47 -0500 (Thu, 20 Feb 2025) EllapsedTime: 11.5 seconds RetCode: 0 Status: OK PackageFile: RLMM_1.69.0.tar.gz PackageFileSize: 419 KiB