Package: RLMM Version: 1.69.0 Command: /Library/Frameworks/R.framework/Resources/bin/R CMD INSTALL RLMM StartedAt: 2025-02-20 15:01:10 -0500 (Thu, 20 Feb 2025) EndedAt: 2025-02-20 15:01:13 -0500 (Thu, 20 Feb 2025) EllapsedTime: 3.3 seconds RetCode: 0 Status: OK