Package: RLMM Version: 1.69.0 Command: rm -rf RLMM.buildbin-libdir && mkdir RLMM.buildbin-libdir && /Users/biocbuild/BBS/utils/build-universal.sh RLMM_1.69.0.tar.gz /Library/Frameworks/R.framework/Resources/bin/R RLMM.buildbin-libdir StartedAt: 2025-02-20 22:32:31 -0500 (Thu, 20 Feb 2025) EndedAt: 2025-02-20 22:32:33 -0500 (Thu, 20 Feb 2025) EllapsedTime: 2.1 seconds RetCode: 0 Status: OK PackageFile: RLMM_1.69.0.tgz PackageFileSize: 371.4 KiB