Package: RJMCMCNucleosomes Version: 1.31.0 Command: /home/biocbuild/R/R/bin/R CMD build --keep-empty-dirs --no-resave-data RJMCMCNucleosomes StartedAt: 2025-01-29 01:43:55 -0000 (Wed, 29 Jan 2025) EndedAt: 2025-01-29 01:45:43 -0000 (Wed, 29 Jan 2025) EllapsedTime: 107.1 seconds RetCode: 0 Status: OK PackageFile: RJMCMCNucleosomes_1.31.0.tar.gz PackageFileSize: 689.3 KiB