Package: RJMCMCNucleosomes Version: 1.31.0 Command: /Library/Frameworks/R.framework/Resources/bin/R CMD INSTALL RJMCMCNucleosomes StartedAt: 2025-02-20 15:10:14 -0500 (Thu, 20 Feb 2025) EndedAt: 2025-02-20 15:10:31 -0500 (Thu, 20 Feb 2025) EllapsedTime: 16.9 seconds RetCode: 0 Status: OK