Package: RJMCMCNucleosomes Version: 1.31.0 Command: rm -rf RJMCMCNucleosomes.buildbin-libdir && mkdir RJMCMCNucleosomes.buildbin-libdir && /Users/biocbuild/BBS/utils/build-universal.sh RJMCMCNucleosomes_1.31.0.tar.gz /Library/Frameworks/R.framework/Resources/bin/R RJMCMCNucleosomes.buildbin-libdir StartedAt: 2025-02-20 22:32:29 -0500 (Thu, 20 Feb 2025) EndedAt: 2025-02-20 22:32:49 -0500 (Thu, 20 Feb 2025) EllapsedTime: 19.4 seconds RetCode: 0 Status: OK PackageFile: RJMCMCNucleosomes_1.31.0.tgz PackageFileSize: 894.5 KiB