Package: RImmPort Version: 1.35.0 Command: E:\biocbuild\bbs-3.21-bioc\R\bin\R.exe CMD INSTALL RImmPort StartedAt: 2025-02-20 15:31:37 -0500 (Thu, 20 Feb 2025) EndedAt: 2025-02-20 15:32:37 -0500 (Thu, 20 Feb 2025) EllapsedTime: 60.3 seconds RetCode: 0 Status: OK