Package: RImmPort Version: 1.35.0 Command: chmod a+r RImmPort -R && E:\biocbuild\bbs-3.21-bioc\R\bin\R.exe CMD build --keep-empty-dirs --no-resave-data RImmPort StartedAt: 2025-02-20 21:17:54 -0500 (Thu, 20 Feb 2025) EndedAt: 2025-02-20 21:19:31 -0500 (Thu, 20 Feb 2025) EllapsedTime: 96.9 seconds RetCode: 0 Status: OK PackageFile: RImmPort_1.35.0.tar.gz PackageFileSize: 2.827 MiB