Package: RImmPort Version: 1.35.0 Command: rm -rf RImmPort.buildbin-libdir && mkdir RImmPort.buildbin-libdir && E:\biocbuild\bbs-3.21-bioc\R\bin\R.exe CMD INSTALL --build --library=RImmPort.buildbin-libdir RImmPort_1.35.0.tar.gz StartedAt: 2025-02-21 08:55:53 -0500 (Fri, 21 Feb 2025) EndedAt: 2025-02-21 08:56:26 -0500 (Fri, 21 Feb 2025) EllapsedTime: 32.9 seconds RetCode: 0 Status: OK PackageFile: RImmPort_1.35.0.zip PackageFileSize: 2.522 MiB