Package: RITAN Version: 1.31.0 Command: E:\biocbuild\bbs-3.21-bioc\R\bin\R.exe CMD INSTALL RITAN StartedAt: 2025-02-18 16:22:04 -0500 (Tue, 18 Feb 2025) EndedAt: 2025-02-18 16:23:03 -0500 (Tue, 18 Feb 2025) EllapsedTime: 59.2 seconds RetCode: 0 Status: OK