Package: RITAN Version: 1.31.0 Command: E:\biocbuild\bbs-3.21-bioc\R\bin\R.exe CMD check --no-multiarch --install=check:RITAN.install-out.txt --library=E:\biocbuild\bbs-3.21-bioc\R\library --no-vignettes --timings RITAN_1.31.0.tar.gz StartedAt: 2025-02-20 04:44:50 -0500 (Thu, 20 Feb 2025) EndedAt: 2025-02-20 04:50:12 -0500 (Thu, 20 Feb 2025) EllapsedTime: 322.2 seconds RetCode: 0 Status: WARNINGS CheckDir: RITAN.Rcheck Warnings: 1