Package: RITAN Version: 1.31.0 Command: /home/biocbuild/bbs-3.21-bioc/R/bin/R CMD build --keep-empty-dirs --no-resave-data RITAN StartedAt: 2025-02-18 18:48:13 -0500 (Tue, 18 Feb 2025) EndedAt: 2025-02-18 18:49:55 -0500 (Tue, 18 Feb 2025) EllapsedTime: 102.1 seconds RetCode: 0 Status: OK PackageFile: RITAN_1.31.0.tar.gz PackageFileSize: 789.6 KiB