Package: RITAN Version: 1.31.0 Command: /Library/Frameworks/R.framework/Resources/bin/R CMD INSTALL RITAN StartedAt: 2025-02-18 15:19:54 -0500 (Tue, 18 Feb 2025) EndedAt: 2025-02-18 15:20:47 -0500 (Tue, 18 Feb 2025) EllapsedTime: 53.3 seconds RetCode: 0 Status: OK