Package: RITAN Version: 1.31.0 Command: /Library/Frameworks/R.framework/Resources/bin/R CMD build --keep-empty-dirs --no-resave-data RITAN StartedAt: 2025-02-18 17:26:54 -0500 (Tue, 18 Feb 2025) EndedAt: 2025-02-18 17:27:41 -0500 (Tue, 18 Feb 2025) EllapsedTime: 47.5 seconds RetCode: 0 Status: OK PackageFile: RITAN_1.31.0.tar.gz PackageFileSize: 877.7 KiB