Package: RGraph2js Version: 1.35.0 Command: E:\biocbuild\bbs-3.21-bioc\R\bin\R.exe CMD INSTALL RGraph2js StartedAt: 2025-02-20 15:31:55 -0500 (Thu, 20 Feb 2025) EndedAt: 2025-02-20 15:32:09 -0500 (Thu, 20 Feb 2025) EllapsedTime: 14.2 seconds RetCode: 0 Status: OK