Package: RGraph2js Version: 1.35.0 Command: chmod a+r RGraph2js -R && E:\biocbuild\bbs-3.21-bioc\R\bin\R.exe CMD build --keep-empty-dirs --no-resave-data RGraph2js StartedAt: 2025-02-20 21:15:03 -0500 (Thu, 20 Feb 2025) EndedAt: 2025-02-20 21:15:48 -0500 (Thu, 20 Feb 2025) EllapsedTime: 45.0 seconds RetCode: 0 Status: OK PackageFile: RGraph2js_1.35.0.tar.gz PackageFileSize: 2.348 MiB