Package: RGraph2js Version: 1.35.0 Command: rm -rf RGraph2js.buildbin-libdir && mkdir RGraph2js.buildbin-libdir && E:\biocbuild\bbs-3.21-bioc\R\bin\R.exe CMD INSTALL --build --library=RGraph2js.buildbin-libdir RGraph2js_1.35.0.tar.gz StartedAt: 2025-02-20 08:35:01 -0500 (Thu, 20 Feb 2025) EndedAt: 2025-02-20 08:35:13 -0500 (Thu, 20 Feb 2025) EllapsedTime: 11.9 seconds RetCode: 0 Status: OK PackageFile: RGraph2js_1.35.0.zip PackageFileSize: 1.504 MiB