Package: RGraph2js Version: 1.35.0 Command: /Library/Frameworks/R.framework/Resources/bin/R CMD INSTALL RGraph2js StartedAt: 2025-02-19 15:12:51 -0500 (Wed, 19 Feb 2025) EndedAt: 2025-02-19 15:12:59 -0500 (Wed, 19 Feb 2025) EllapsedTime: 7.8 seconds RetCode: 0 Status: OK