Package: RGraph2js Version: 1.35.0 Command: /Library/Frameworks/R.framework/Resources/bin/R CMD check --install=check:RGraph2js.install-out.txt --library=/Library/Frameworks/R.framework/Resources/library --no-vignettes --timings RGraph2js_1.35.0.tar.gz StartedAt: 2025-02-20 22:45:05 -0500 (Thu, 20 Feb 2025) EndedAt: 2025-02-20 22:45:42 -0500 (Thu, 20 Feb 2025) EllapsedTime: 36.8 seconds RetCode: 0 Status: OK CheckDir: RGraph2js.Rcheck Warnings: 0