Package: RGraph2js Version: 1.35.0 Command: /Library/Frameworks/R.framework/Resources/bin/R CMD build --keep-empty-dirs --no-resave-data RGraph2js StartedAt: 2025-02-19 17:59:23 -0500 (Wed, 19 Feb 2025) EndedAt: 2025-02-19 17:59:39 -0500 (Wed, 19 Feb 2025) EllapsedTime: 16.1 seconds RetCode: 0 Status: OK PackageFile: RGraph2js_1.35.0.tar.gz PackageFileSize: 2.344 MiB