Package: RGraph2js Version: 1.35.0 Command: rm -rf RGraph2js.buildbin-libdir && mkdir RGraph2js.buildbin-libdir && /Users/biocbuild/BBS/utils/build-universal.sh RGraph2js_1.35.0.tar.gz /Library/Frameworks/R.framework/Resources/bin/R RGraph2js.buildbin-libdir StartedAt: 2025-02-21 00:48:45 -0500 (Fri, 21 Feb 2025) EndedAt: 2025-02-21 00:48:51 -0500 (Fri, 21 Feb 2025) EllapsedTime: 6.9 seconds RetCode: 0 Status: OK PackageFile: RGraph2js_1.35.0.tgz PackageFileSize: 1.497 MiB