Package: RGraph2js Version: 1.35.0 Command: /home/biocbuild/R/R/bin/R CMD INSTALL RGraph2js StartedAt: 2025-01-29 19:58:33 -0000 (Wed, 29 Jan 2025) EndedAt: 2025-01-29 19:58:37 -0000 (Wed, 29 Jan 2025) EllapsedTime: 4.5 seconds RetCode: 0 Status: OK