Package: RGraph2js Version: 1.36.0 Command: /Library/Frameworks/R.framework/Resources/bin/R CMD INSTALL RGraph2js StartedAt: 2025-10-09 15:31:53 -0400 (Thu, 09 Oct 2025) EndedAt: 2025-10-09 15:31:58 -0400 (Thu, 09 Oct 2025) EllapsedTime: 4.7 seconds RetCode: 0 Status: OK