Package: RGraph2js Version: 1.36.0 Command: /Library/Frameworks/R.framework/Resources/bin/R CMD build --keep-empty-dirs --no-resave-data RGraph2js StartedAt: 2025-10-10 08:03:09 -0400 (Fri, 10 Oct 2025) EndedAt: 2025-10-10 08:03:34 -0400 (Fri, 10 Oct 2025) EllapsedTime: 25.1 seconds RetCode: 0 Status: OK PackageFile: RGraph2js_1.36.0.tar.gz PackageFileSize: 2.344 MiB