Package: RGSEA Version: 1.41.0 Command: E:\biocbuild\bbs-3.21-bioc\R\bin\R.exe CMD check --no-multiarch --install=check:RGSEA.install-out.txt --library=E:\biocbuild\bbs-3.21-bioc\R\library --no-vignettes --timings RGSEA_1.41.0.tar.gz StartedAt: 2025-02-21 04:59:19 -0500 (Fri, 21 Feb 2025) EndedAt: 2025-02-21 05:00:13 -0500 (Fri, 21 Feb 2025) EllapsedTime: 54.0 seconds RetCode: 0 Status: OK CheckDir: RGSEA.Rcheck Warnings: 0