Package: RGSEA Version: 1.41.0 Command: rm -rf RGSEA.buildbin-libdir && mkdir RGSEA.buildbin-libdir && E:\biocbuild\bbs-3.21-bioc\R\bin\R.exe CMD INSTALL --build --library=RGSEA.buildbin-libdir RGSEA_1.41.0.tar.gz StartedAt: 2025-02-21 08:54:51 -0500 (Fri, 21 Feb 2025) EndedAt: 2025-02-21 08:55:01 -0500 (Fri, 21 Feb 2025) EllapsedTime: 10.1 seconds RetCode: 0 Status: OK PackageFile: RGSEA_1.41.0.zip PackageFileSize: 1.753 MiB