Package: RGMQL Version: 1.27.1 Command: /home/biocbuild/bbs-3.21-bioc/R/bin/R CMD INSTALL RGMQL StartedAt: 2025-02-18 15:24:04 -0500 (Tue, 18 Feb 2025) EndedAt: 2025-02-18 15:24:40 -0500 (Tue, 18 Feb 2025) EllapsedTime: 36.1 seconds RetCode: 0 Status: OK