Package: RESOLVE Version: 1.9.0 Command: E:\biocbuild\bbs-3.21-bioc\R\bin\R.exe CMD INSTALL RESOLVE StartedAt: 2025-02-20 17:00:51 -0500 (Thu, 20 Feb 2025) EndedAt: 2025-02-20 17:01:43 -0500 (Thu, 20 Feb 2025) EllapsedTime: 52.3 seconds RetCode: 0 Status: OK