Package: RESOLVE Version: 1.9.0 Command: rm -rf RESOLVE.buildbin-libdir && mkdir RESOLVE.buildbin-libdir && E:\biocbuild\bbs-3.21-bioc\R\bin\R.exe CMD INSTALL --build --library=RESOLVE.buildbin-libdir RESOLVE_1.9.0.tar.gz StartedAt: 2025-02-21 08:54:17 -0500 (Fri, 21 Feb 2025) EndedAt: 2025-02-21 08:55:07 -0500 (Fri, 21 Feb 2025) EllapsedTime: 50.5 seconds RetCode: 0 Status: OK PackageFile: RESOLVE_1.9.0.zip PackageFileSize: 874.6 KiB