Package: RESOLVE Version: 1.9.0 Command: /Library/Frameworks/R.framework/Resources/bin/R CMD build --keep-empty-dirs --no-resave-data RESOLVE StartedAt: 2025-02-19 17:23:58 -0500 (Wed, 19 Feb 2025) EndedAt: 2025-02-19 17:24:23 -0500 (Wed, 19 Feb 2025) EllapsedTime: 24.3 seconds RetCode: 0 Status: OK PackageFile: RESOLVE_1.9.0.tar.gz PackageFileSize: 735.5 KiB