Package: REMP Version: 1.31.0 Command: /Library/Frameworks/R.framework/Resources/bin/R CMD build --keep-empty-dirs --no-resave-data REMP StartedAt: 2025-02-18 17:56:15 -0500 (Tue, 18 Feb 2025) EndedAt: 2025-02-18 17:58:35 -0500 (Tue, 18 Feb 2025) EllapsedTime: 140.6 seconds RetCode: 0 Status: OK PackageFile: REMP_1.31.0.tar.gz PackageFileSize: 190.8 KiB