Package: REDseq Version: 1.53.0 Command: E:\biocbuild\bbs-3.21-bioc\R\bin\R.exe CMD INSTALL REDseq StartedAt: 2025-02-18 16:29:51 -0500 (Tue, 18 Feb 2025) EndedAt: 2025-02-18 16:30:55 -0500 (Tue, 18 Feb 2025) EllapsedTime: 64.0 seconds RetCode: 0 Status: OK